BEGIN:VCALENDAR
VERSION:2.0
PRODID:-//St. Catharines Twinning Association - ECPv6.15.20//NONSGML v1.0//EN
CALSCALE:GREGORIAN
METHOD:PUBLISH
X-WR-CALNAME:St. Catharines Twinning Association
X-ORIGINAL-URL:https://twinning.ca
X-WR-CALDESC:Events for St. Catharines Twinning Association
REFRESH-INTERVAL;VALUE=DURATION:PT1H
X-Robots-Tag:noindex
X-PUBLISHED-TTL:PT1H
BEGIN:VTIMEZONE
TZID:America/Toronto
BEGIN:DAYLIGHT
TZOFFSETFROM:-0500
TZOFFSETTO:-0400
TZNAME:EDT
DTSTART:20250309T070000
END:DAYLIGHT
BEGIN:STANDARD
TZOFFSETFROM:-0400
TZOFFSETTO:-0500
TZNAME:EST
DTSTART:20251102T060000
END:STANDARD
BEGIN:DAYLIGHT
TZOFFSETFROM:-0500
TZOFFSETTO:-0400
TZNAME:EDT
DTSTART:20260308T070000
END:DAYLIGHT
BEGIN:STANDARD
TZOFFSETFROM:-0400
TZOFFSETTO:-0500
TZNAME:EST
DTSTART:20261101T060000
END:STANDARD
BEGIN:DAYLIGHT
TZOFFSETFROM:-0500
TZOFFSETTO:-0400
TZNAME:EDT
DTSTART:20270314T070000
END:DAYLIGHT
BEGIN:STANDARD
TZOFFSETFROM:-0400
TZOFFSETTO:-0500
TZNAME:EST
DTSTART:20271107T060000
END:STANDARD
END:VTIMEZONE
BEGIN:VEVENT
DTSTART;TZID=America/Toronto:20260502T120000
DTEND;TZID=America/Toronto:20260502T160000
DTSTAMP:20260421T063454
CREATED:20260420T222759Z
LAST-MODIFIED:20260420T223359Z
UID:1717-1777723200-1777737600@twinning.ca
SUMMARY:St. Catharines 150 Party
DESCRIPTION:Celebrate the City of St. Catharines’s 150th anniversary of incorporation with us at Montebello Park. Twinning will be participating with an information booth and carnival crafts for kids.\nGet Membership      ×
URL:https://twinning.ca/event/st-catharines-150-party/
LOCATION:Montebello Parl\, 64 Ontario Street\, St. Catharines\, Ontario\, L2R 5J5\, Canada
ATTACH;FMTTYPE=image/png:https://twinning.ca/wp-content/uploads/2026/04/St-Catharines-Party.png
END:VEVENT
END:VCALENDAR